Workbook

Sheet Összesítő
A1: szervezet neve | C1: =IF(Szolgáltatás_1!C1="","",Szolgáltatás_1!C1)
A2: szervezet székhelye | C2: =IF(Szolgáltatás_1!C2="","",Szolgáltatás_1!C2)
A3: szervezet adószáma | C3: =IF(Szolgáltatás_1!C3="","",Szolgáltatás_1!C3)
A5: igényelt támogatási összeg | C5: =G19 -> 0
A7: Kísérő intézkedések keretében nyújtani tervezett szolgáltatások
A8: Ssz. | B8: szolgáltatás / tevékenység / intézkedés | C8: szükséges alkalomszám | D8: bevonásra kerülő személyek száma | E8: kezelésbe- vételek száma | F8: szolgáltatásra igényelt támogatás (Ft/fő/alkalom) | G8: szolgáltatásra igényelt támogatás összesen
A9: 1. | B9: =IF(Szolgáltatás_1!$E$5="Kérem válasszon!","",IF(Szolgáltatás_1!$E$5="Egyéb",Szolgáltatás_1!$E$6,Szolgáltatás_1!$E$5)) -> 0 | C9: =Szolgáltatás_1!I10 -> 0 | D9: =Szolgáltatás_1!I11 -> 0 | E9: =Szolgáltatás_1!I12 -> 0 | F9: =Szolgáltatás_1!C16 -> 0 | G9: =Szolgáltatás_1!D16 -> 0
A10: 2. | B10: =IF(Szolgáltatás_2!$E$5="Kérem válasszon!","",IF(Szolgáltatás_2!$E$5="Egyéb",Szolgáltatás_2!$E$6,Szolgáltatás_2!$E$5)) -> 0 | C10: =Szolgáltatás_2!I10 -> 0 | D10: =Szolgáltatás_2!I11 -> 0 | E10: =Szolgáltatás_2!I12 -> 0 | F10: =Szolgáltatás_2!C16 | G10: =Szolgáltatás_2!D16 -> 0
A11: 3.
A12: 4.
A13: 5.
A14: 6.
A15: 7.
A16: 8.
A17: 9.
A18: 10.
A19: Összesen | D19: =SUM(D9:D18) -> 0 | E19: =SUM(E9:E18) -> 0 | F19: - | G19: =SUM(G9:G18) -> 0

Sheet Szolgáltatás_1
A1: szervezet neve
A2: szervezet székhelye
A3: szervezet adószáma
A5: szolgáltatás / tevékenység / intézkedés megnevezése
A6: egyéb típusú szolgáltatás esetén a szolgáltatás / tevékenység / intézkedés megnevezése
A7: a szolgálgáltatás jellege
A8: csoportos szolgáltatás esetén a csoport létszáma (fő)
B10: Személyenként hány alkalommal szükséges a szolgáltatás nyújtása (alkalom/fő)
B11: Bevonásra kerülő személyek száma (fő)
B12: Kezelésbevételek összesített darabszámaszáma (alkalom) | I12: =I10*I11 -> 0
C15: Ft/fő/alkalom | D15: vállalásra vetítve
B16: Pályázó által igényelt támogatási összeg
A19: Ssz. | B19: Költségtétel megnevezése | C19: Mennyiségi egység | D19: Mennyiség | E19: Nettó egységköltség | F19: ÁFA (amennyiben releváns) | G19: Bruttó egységköltség | H19: Bruttó költség összesen | I19: Költsgététel szöveges levezetése és indoklása | J19: Ellenőrző mező
A20: 1. | G20: =E20+F20 -> 0 | H20: =G20*D20 -> 0 | J20: =IF(B20<>"",IF(AND(H20>0,C20<>"",I20<>""),"P","N"),"")
A21: 2. | G21: =E21+F21 -> 0 | H21: =G21*D21 -> 0 | J21: =IF(B21<>"",IF(AND(H21>0,C21<>"",I21<>""),"P","N"),"")
A22: 3. | G22: =E22+F22 -> 0 | H22: =G22*D22 -> 0 | J22: =IF(B22<>"",IF(AND(H22>0,C22<>"",I22<>""),"P","N"),"")
A23: 4. | G23: =E23+F23 -> 0 | H23: =G23*D23 -> 0 | J23: =IF(B23<>"",IF(AND(H23>0,C23<>"",I23<>""),"P","N"),"")
A24: 5. | G24: =E24+F24 -> 0 | H24: =G24*D24 -> 0 | J24: =IF(B24<>"",IF(AND(H24>0,C24<>"",I24<>""),"P","N"),"")
A25: 6. | G25: =E25+F25 -> 0 | H25: =G25*D25 -> 0 | J25: =IF(B25<>"",IF(AND(H25>0,C25<>"",I25<>""),"P","N"),"")
A26: 7. | G26: =E26+F26 -> 0 | H26: =G26*D26 -> 0 | J26: =IF(B26<>"",IF(AND(H26>0,C26<>"",I26<>""),"P","N"),"")
A27: 8. | G27: =E27+F27 -> 0 | H27: =G27*D27 -> 0 | J27: =IF(B27<>"",IF(AND(H27>0,C27<>"",I27<>""),"P","N"),"")
A28: 9. | G28: =E28+F28 -> 0 | H28: =G28*D28 -> 0 | J28: =IF(B28<>"",IF(AND(H28>0,C28<>"",I28<>""),"P","N"),"")
A29: 10. | G29: =E29+F29 -> 0 | H29: =G29*D29 -> 0 | J29: =IF(B29<>"",IF(AND(H29>0,C29<>"",I29<>""),"P","N"),"")
A30: 11. | G30: =E30+F30 -> 0 | H30: =G30*D30 -> 0 | J30: =IF(B30<>"",IF(AND(H30>0,C30<>"",I30<>""),"P","N"),"")
A31: 12. | G31: =E31+F31 -> 0 | H31: =G31*D31 -> 0 | J31: =IF(B31<>"",IF(AND(H31>0,C31<>"",I31<>""),"P","N"),"")
... A39: 20. | G39: =E39+F39 -> 0 | H39: =G39*D39 -> 0 | J39: =IF(B39<>"",IF(AND(H39>0,C39<>"",I39<>""),"P","N"),"")

Sheet Szolgáltatás_2
A1: szervezet neve | C1: =IF(Szolgáltatás_1!C1="","",Szolgáltatás_1!C1)
A2: szervezet székhelye | C2: =IF(Szolgáltatás_1!C2="","",Szolgáltatás_1!C2)
A3: szervezet adószáma | C3: =IF(Szolgáltatás_1!C3="","",Szolgáltatás_1!C3)
A5: szolgáltatás / tevékenység / intézkedés megnevezése
A6: egyéb típusú szolgáltatás esetén a szolgáltatás / tevékenység / intézkedés megnevezése
A7: a szolgálgáltatás jellege
A8: csoportos szolgáltatás esetén a csoport létszáma (fő)
B10: Személyenként hány alkalommal szükséges a szolgáltatás nyújtása (alkalom/fő)
B11: Bevonásra kerülő személyek száma (fő)
B12: Kezelésbevételek összesített darabszámaszáma (alkalom) | I12: =I10*I11 -> 0
C15: Ft/fő/alkalom | D15: vállalásra vetítve
B16: Pályázó által igényelt támogatási összeg | C16: =IF(I12=0,"",ROUND(SUM(H20:H39)/I12,0)) | D16: =SUM(H20:H39) -> 0
A19: Ssz. | B19: Költségtétel megnevezése | C19: Mennyiségi egység | D19: Mennyiség | E19: Nettó egységköltség | F19: ÁFA (amennyiben releváns) | G19: Bruttó egységköltség | H19: Bruttó költség összesen | I19: Költsgététel szöveges levezetése és indoklása | J19: Ellenőrző mező
A20: 1. | G20: =E20+F20 -> 0 | H20: =G20*D20 -> 0 | J20: =IF(B20<>"",IF(AND(H20>0,C20<>"",I20<>""),"P","N"),"")
A21: 2. | G21: =E21+F21 -> 0 | H21: =G21*D21 -> 0 | J21: =IF(B21<>"",IF(AND(H21>0,C21<>"",I21<>""),"P","N"),"")
A22: 3. | G22: =E22+F22 -> 0 | H22: =G22*D22 -> 0 | J22: =IF(B22<>"",IF(AND(H22>0,C22<>"",I22<>""),"P","N"),"")
A23: 4. | G23: =E23+F23 -> 0 | H23: =G23*D23 -> 0 | J23: =IF(B23<>"",IF(AND(H23>0,C23<>"",I23<>""),"P","N"),"")
A24: 5. | G24: =E24+F24 -> 0 | H24: =G24*D24 -> 0 | J24: =IF(B24<>"",IF(AND(H24>0,C24<>"",I24<>""),"P","N"),"")
A25: 6. | G25: =E25+F25 -> 0 | H25: =G25*D25 -> 0 | J25: =IF(B25<>"",IF(AND(H25>0,C25<>"",I25<>""),"P","N"),"")
A26: 7. | G26: =E26+F26 -> 0 | H26: =G26*D26 -> 0 | J26: =IF(B26<>"",IF(AND(H26>0,C26<>"",I26<>""),"P","N"),"")
A27: 8. | G27: =E27+F27 -> 0 | H27: =G27*D27 -> 0 | J27: =IF(B27<>"",IF(AND(H27>0,C27<>"",I27<>""),"P","N"),"")
A28: 9. | G28: =E28+F28 -> 0 | H28: =G28*D28 -> 0 | J28: =IF(B28<>"",IF(AND(H28>0,C28<>"",I28<>""),"P","N"),"")
A29: 10. | G29: =E29+F29 -> 0 | H29: =G29*D29 -> 0 | J29: =IF(B29<>"",IF(AND(H29>0,C29<>"",I29<>""),"P","N"),"")
A30: 11. | G30: =E30+F30 -> 0 | H30: =G30*D30 -> 0 | J30: =IF(B30<>"",IF(AND(H30>0,C30<>"",I30<>""),"P","N"),"")
A31: 12. | G31: =E31+F31 -> 0 | H31: =G31*D31 -> 0 | J31: =IF(B31<>"",IF(AND(H31>0,C31<>"",I31<>""),"P","N"),"")
... A39: 20. | G39: =E39+F39 -> 0 | H39: =G39*D39 -> 0 | J39: =IF(B39<>"",IF(AND(H39>0,C39<>"",I39<>""),"P","N"),"")

Sheet Segédtábla
A1: Kérem válasszon! | E1: Kérem válasszon!
A2: pszichológiai tanácsadás | E2: egyéni
A3: függőségi problémákkal kapcsolatos tanácsadás | E3: csoportos
A4: adósságkezelési tanácsadás
A5: háztartás költségvetésének kezelésével kapcsolatos tanácsadás
A6: egészséges táplálkozás - dietetikai tanácsadás
A7: látásvizsgálat
A8: látásvizsgálat szemüveggel
A9: mentálhigiénés tanácsadás
A10: támogatásokkal, közszolgáltatásokkal kapcsolatos információnyújtás
A11: elektronikus ügyintézés segítése
A12: gyógypedagógiai fejlesztés
A13: fejlesztőpedagógus
A14: gyógytornász
A15: logopédus
... A22: egyéb
